BEGIN:VCALENDAR
VERSION:2.0
PRODID:-//GfMU - ECPv6.15.20//NONSGML v1.0//EN
CALSCALE:GREGORIAN
METHOD:PUBLISH
X-WR-CALNAME:GfMU
X-ORIGINAL-URL:https://www.meeresaquaristik-ulm.de
X-WR-CALDESC:Veranstaltungen für GfMU
REFRESH-INTERVAL;VALUE=DURATION:PT1H
X-Robots-Tag:noindex
X-PUBLISHED-TTL:PT1H
BEGIN:VTIMEZONE
TZID:Europe/Berlin
BEGIN:DAYLIGHT
TZOFFSETFROM:+0100
TZOFFSETTO:+0200
TZNAME:CEST
DTSTART:20250330T010000
END:DAYLIGHT
BEGIN:STANDARD
TZOFFSETFROM:+0200
TZOFFSETTO:+0100
TZNAME:CET
DTSTART:20251026T010000
END:STANDARD
BEGIN:DAYLIGHT
TZOFFSETFROM:+0100
TZOFFSETTO:+0200
TZNAME:CEST
DTSTART:20260329T010000
END:DAYLIGHT
BEGIN:STANDARD
TZOFFSETFROM:+0200
TZOFFSETTO:+0100
TZNAME:CET
DTSTART:20261025T010000
END:STANDARD
BEGIN:DAYLIGHT
TZOFFSETFROM:+0100
TZOFFSETTO:+0200
TZNAME:CEST
DTSTART:20270328T010000
END:DAYLIGHT
BEGIN:STANDARD
TZOFFSETFROM:+0200
TZOFFSETTO:+0100
TZNAME:CET
DTSTART:20271031T010000
END:STANDARD
END:VTIMEZONE
BEGIN:VEVENT
DTSTART;TZID=Europe/Berlin:20260424T200000
DTEND;TZID=Europe/Berlin:20260424T220000
DTSTAMP:20260424T020252
CREATED:20260405T090649Z
LAST-MODIFIED:20260405T090649Z
UID:4313-1777060800-1777068000@www.meeresaquaristik-ulm.de
SUMMARY:Online Stammtisch
DESCRIPTION:ZOOM Link wird in der WhatsApp Vereinsgruppe mitgeteilt. \nWir laden euch herzlich zu unserem Online‑Stammtisch ein. In lockerer Runde tauschen wir uns über aktuelle Vereinsprojekte\, Ideen und Themen aus\, die euch bewegen. Der Stammtisch bietet eine unkomplizierte Möglichkeit\, miteinander ins Gespräch zu kommen – unabhängig vom Standort. \nWir freuen uns über jede Teilnahme und auf einen offenen\, konstruktiven Austausch. \nHinweis: Aufzeichnungen\, Mitschnitte oder Screenshots des Meetings sind ohne ausdrückliche Zustimmung aller Teilnehmenden nicht gestattet.
URL:https://www.meeresaquaristik-ulm.de/termin/online-stammtisch-april-2026/
LOCATION:Baden-Württemberg
CATEGORIES:Forum
ATTACH;FMTTYPE=image/jpeg:https://www.meeresaquaristik-ulm.de/wp-content/uploads/2026/03/virtueller-stammtisch-mit-logo.jpg
END:VEVENT
END:VCALENDAR