BEGIN:VCALENDAR
VERSION:2.0
PRODID:-//GfMU - ECPv6.15.20//NONSGML v1.0//EN
CALSCALE:GREGORIAN
METHOD:PUBLISH
X-ORIGINAL-URL:https://www.meeresaquaristik-ulm.de
X-WR-CALDESC:Veranstaltungen für GfMU
REFRESH-INTERVAL;VALUE=DURATION:PT1H
X-Robots-Tag:noindex
X-PUBLISHED-TTL:PT1H
BEGIN:VTIMEZONE
TZID:Europe/Berlin
BEGIN:DAYLIGHT
TZOFFSETFROM:+0100
TZOFFSETTO:+0200
TZNAME:CEST
DTSTART:20220327T010000
END:DAYLIGHT
BEGIN:STANDARD
TZOFFSETFROM:+0200
TZOFFSETTO:+0100
TZNAME:CET
DTSTART:20221030T010000
END:STANDARD
BEGIN:DAYLIGHT
TZOFFSETFROM:+0100
TZOFFSETTO:+0200
TZNAME:CEST
DTSTART:20230326T010000
END:DAYLIGHT
BEGIN:STANDARD
TZOFFSETFROM:+0200
TZOFFSETTO:+0100
TZNAME:CET
DTSTART:20231029T010000
END:STANDARD
BEGIN:DAYLIGHT
TZOFFSETFROM:+0100
TZOFFSETTO:+0200
TZNAME:CEST
DTSTART:20240331T010000
END:DAYLIGHT
BEGIN:STANDARD
TZOFFSETFROM:+0200
TZOFFSETTO:+0100
TZNAME:CET
DTSTART:20241027T010000
END:STANDARD
END:VTIMEZONE
BEGIN:VEVENT
DTSTART;TZID=Europe/Berlin:20230310T193000
DTEND;TZID=Europe/Berlin:20230310T220000
DTSTAMP:20260420T024659
CREATED:20230214T194354Z
LAST-MODIFIED:20230301T220033Z
UID:902-1678476600-1678485600@www.meeresaquaristik-ulm.de
SUMMARY:Next Level Reefing
DESCRIPTION:An diesem Vereinsabend wird uns Alex Schwarz (Inhaber von Schwarz Chemie und Vereinsmitglied) eine ganz neue und innovative Methode zur Makro- und Spurenelementversorgung vorstellen\, die es so auf dem Meerwasseraquaristik Markt nicht gibt. Die Methode zeichnet sich damit aus\, dass sie sehr einfach und kostengünstig einzusetzen ist. Der große Vorteil ist\, dass die Elemente nach dem tatsächlichen Verbrauch zu dem Riffaquarium gegeben werden. \n 
URL:https://www.meeresaquaristik-ulm.de/termin/10-maerz-2023/
LOCATION:Ulm\, Seligweiler 1\, Ulm\, 89081\, Germany
CATEGORIES:Vortrag
ATTACH;FMTTYPE=image/jpeg:https://www.meeresaquaristik-ulm.de/wp-content/uploads/2023/02/NLR.jpg
ORGANIZER;CN="GfMU":MAILTO:info@meeresaquaristik-ulm.de
END:VEVENT
END:VCALENDAR