BEGIN:VCALENDAR
VERSION:2.0
PRODID:-//GfMU - ECPv6.15.20//NONSGML v1.0//EN
CALSCALE:GREGORIAN
METHOD:PUBLISH
X-ORIGINAL-URL:https://www.meeresaquaristik-ulm.de
X-WR-CALDESC:Veranstaltungen für GfMU
REFRESH-INTERVAL;VALUE=DURATION:PT1H
X-Robots-Tag:noindex
X-PUBLISHED-TTL:PT1H
BEGIN:VTIMEZONE
TZID:Europe/Berlin
BEGIN:DAYLIGHT
TZOFFSETFROM:+0100
TZOFFSETTO:+0200
TZNAME:CEST
DTSTART:20230326T010000
END:DAYLIGHT
BEGIN:STANDARD
TZOFFSETFROM:+0200
TZOFFSETTO:+0100
TZNAME:CET
DTSTART:20231029T010000
END:STANDARD
BEGIN:DAYLIGHT
TZOFFSETFROM:+0100
TZOFFSETTO:+0200
TZNAME:CEST
DTSTART:20240331T010000
END:DAYLIGHT
BEGIN:STANDARD
TZOFFSETFROM:+0200
TZOFFSETTO:+0100
TZNAME:CET
DTSTART:20241027T010000
END:STANDARD
BEGIN:DAYLIGHT
TZOFFSETFROM:+0100
TZOFFSETTO:+0200
TZNAME:CEST
DTSTART:20250330T010000
END:DAYLIGHT
BEGIN:STANDARD
TZOFFSETFROM:+0200
TZOFFSETTO:+0100
TZNAME:CET
DTSTART:20251026T010000
END:STANDARD
END:VTIMEZONE
BEGIN:VEVENT
DTSTART;TZID=Europe/Berlin:20240510T193000
DTEND;TZID=Europe/Berlin:20240510T220000
DTSTAMP:20260420T113009
CREATED:20240428T072504Z
LAST-MODIFIED:20240428T075917Z
UID:3061-1715369400-1715378400@www.meeresaquaristik-ulm.de
SUMMARY:Farbigkeit von Steinkorallen
DESCRIPTION:Vortrag von Dieter Kreißl \nDie Farbigkeit von Steinkorallen ist ein faszinierendes Thema\, besonders für Aquarianer\, die sich für Riffaquarien interessieren. Es gibt viele Einflussfaktoren\, die die Farbigkeit von Steinkorallen beeinflussen. Dabei ist Licht mit der wesentlichste Faktor. In dem Vortrag wird genau auf diesen Thema der Schwerpunkt gelegt. Dabei werden u.a. Themen wie farbbeeinflussende Pigmente\, Photoinhibitation und Optimierungen der Lichtumgebung angesprochen. \n\n\n\n \n 
URL:https://www.meeresaquaristik-ulm.de/termin/farbigkeit-von-steinkorallen/
LOCATION:Ulm\, Seligweiler 1\, Ulm\, 89081\, Germany
CATEGORIES:Vortrag
ATTACH;FMTTYPE=image/png:https://www.meeresaquaristik-ulm.de/wp-content/uploads/2024/04/farbe-korallen-gfmu.png
ORGANIZER;CN="GfMU":MAILTO:info@meeresaquaristik-ulm.de
END:VEVENT
END:VCALENDAR