BEGIN:VCALENDAR
VERSION:2.0
PRODID:-//GfMU - ECPv6.15.20//NONSGML v1.0//EN
CALSCALE:GREGORIAN
METHOD:PUBLISH
X-WR-CALNAME:GfMU
X-ORIGINAL-URL:https://www.meeresaquaristik-ulm.de
X-WR-CALDESC:Veranstaltungen für GfMU
REFRESH-INTERVAL;VALUE=DURATION:PT1H
X-Robots-Tag:noindex
X-PUBLISHED-TTL:PT1H
BEGIN:VTIMEZONE
TZID:Europe/Berlin
BEGIN:DAYLIGHT
TZOFFSETFROM:+0100
TZOFFSETTO:+0200
TZNAME:CEST
DTSTART:20250330T010000
END:DAYLIGHT
BEGIN:STANDARD
TZOFFSETFROM:+0200
TZOFFSETTO:+0100
TZNAME:CET
DTSTART:20251026T010000
END:STANDARD
BEGIN:DAYLIGHT
TZOFFSETFROM:+0100
TZOFFSETTO:+0200
TZNAME:CEST
DTSTART:20260329T010000
END:DAYLIGHT
BEGIN:STANDARD
TZOFFSETFROM:+0200
TZOFFSETTO:+0100
TZNAME:CET
DTSTART:20261025T010000
END:STANDARD
BEGIN:DAYLIGHT
TZOFFSETFROM:+0100
TZOFFSETTO:+0200
TZNAME:CEST
DTSTART:20270328T010000
END:DAYLIGHT
BEGIN:STANDARD
TZOFFSETFROM:+0200
TZOFFSETTO:+0100
TZNAME:CET
DTSTART:20271031T010000
END:STANDARD
END:VTIMEZONE
BEGIN:VEVENT
DTSTART;TZID=Europe/Berlin:20260911T193000
DTEND;TZID=Europe/Berlin:20260911T230000
DTSTAMP:20260420T154214
CREATED:20260417T191957Z
LAST-MODIFIED:20260417T194159Z
UID:4321-1789155000-1789167600@www.meeresaquaristik-ulm.de
SUMMARY:aquaLEDs live bei der GfMU!
DESCRIPTION:Thema: Moderne LED‑Beleuchtung für Meerwasseraquarien \nGast: Matthias Mögerle\, aquaLEDs GmbH \nWir freuen uns sehr\, dass aquaLEDs am 11. September zu uns nach Ulm kommt. Matthias Mögerle stellt die aktuellen LED‑Systeme des Unternehmens vor und geht dabei besonders auf die für Meerwasseraquarianer entscheidenden technischen Aspekte ein: \n\nSpektrum & Lichtfarbe\nIntensität und PAR‑Verteilung\nDimmkurven & Steuerungsmöglichkeiten\npraktische Einsatzbereiche an verschiedenen Becken\nFragen aus der Praxis unserer Mitglieder\n\nDie Veranstaltung bietet eine hervorragende Gelegenheit\, die Lampen live zu sehen\, technische Details zu verstehen und individuelle Fragen direkt mit dem Hersteller zu klären. \n  \n \nÜber aquaLEDs\naquaLEDs GmbH \nKanalstraße 12/1 \n72669 Unterensingen \nwww.aquaLEDs.de \n  \naquaLEDs zu Besuch bei Reef art and design
URL:https://www.meeresaquaristik-ulm.de/termin/aqualeds/
LOCATION:89081 Ulm-Seligweiler\, Seligweiler 1\, 89081 Ulm-Seligweiler\, Baden-Württemberg\, 89075\, Germany
CATEGORIES:Vortrag
ATTACH;FMTTYPE=image/png:https://www.meeresaquaristik-ulm.de/wp-content/uploads/2026/04/aqualeds-logo-klein4-white.png
ORGANIZER;CN="GfMU":MAILTO:info@meeresaquaristik-ulm.de
END:VEVENT
END:VCALENDAR